BEGIN:VCALENDAR
VERSION:2.0
PRODID:-//Palmer Associates - ECPv6.15.18//NONSGML v1.0//EN
CALSCALE:GREGORIAN
METHOD:PUBLISH
X-WR-CALNAME:Palmer Associates
X-ORIGINAL-URL:https://www.palmerassociates.com
X-WR-CALDESC:Events for Palmer Associates
REFRESH-INTERVAL;VALUE=DURATION:PT1H
X-Robots-Tag:noindex
X-PUBLISHED-TTL:PT1H
BEGIN:VTIMEZONE
TZID:UTC
BEGIN:STANDARD
TZOFFSETFROM:+0000
TZOFFSETTO:+0000
TZNAME:UTC
DTSTART:20240101T000000
END:STANDARD
END:VTIMEZONE
BEGIN:VEVENT
DTSTART;TZID=UTC:20251103T080000
DTEND;TZID=UTC:20251104T170000
DTSTAMP:20260420T152412
CREATED:20240912T222601Z
LAST-MODIFIED:20250122T174718Z
UID:2575-1762156800-1762275600@www.palmerassociates.com
SUMMARY:NIOSH Spirometry
DESCRIPTION:NIOSH Spirometry Initial Course\nNovember 3-4\, 2025\n8:00 AM – 5:00 PM\n$675\n			\n			\n				\n				\n				\n				\n				\n				\n				\n				\n				\n				NIOSH Spirometry Refresher Course\nNovember 3-4\, 2025\n8:00 AM – 5:00 PM\n$575\n			\n			\n				\n				\n				\n				\n			\n				\n				\n				\n				\n				\n				\n				\n				\n				\n				\n				\n			\n			\n				\n				\n				\n				\n			\n				\n				\n				\n				\n				\n				\n				\n				\n				\n				\n				Hands on training with enthusiastic lectures packed with updated information insuring that this training need not be boring or painful. The course gives you everything you need to know about performing this lung function test correctly\, insures data quality and the skills to manage the data effectively. Students learn when the test is indicated\, what the results mean\, and what OSHA regulations govern its usage. Practice sessions expose the student to a variety of Flow & Volume spirometers\, and the pros and cons of each are discussed without bias or endorsements. Those who are shopping for equipment leave with a clear idea of what they want.The fast moving pace with lots of interaction and individualization makes for wide awake students. A detailed resource spirometry manual is provided with all the what\, why\, when\, where and how of doing the test. Student course evaluations include such comments as: “The best course I’ve ever taken”\, “I learned so much and wish I’d taken this sooner”\, “It was actually fun and I wish there could be a third day”.“By taking the spirometry course\, I realized it was the best way for me to ensure that I could do my job with integrity and competency. I will continue to participate every three years.” Cora L.E. Christian\, MD\, MPH \, Medical Director\, Hovensa Oil Company\, USVI
URL:https://www.palmerassociates.com/events/november-3-4-2025/
LOCATION:Hampton Inn Irvine Spectrum Lake Forest\, 23021 Lake Center Drive B\, Lake Forest\, CA\, 92630\, United States
CATEGORIES:NIOSH Spirometry Courses
ATTACH;FMTTYPE=image/jpeg:https://www.palmerassociates.com/wp-content/uploads/2020/01/nioshspirometry.jpg
ORGANIZER;CN="Palmer Associates":MAILTO:info@palmerassociates.com
END:VEVENT
END:VCALENDAR